BEGIN:VCALENDAR
VERSION:2.0
PRODID:spatie/icalendar-generator
DESCRIPTION:Veranstaltungen von verikom gGmbH
X-WR-CALDESC:Veranstaltungen von verikom gGmbH
REFRESH-INTERVAL;VALUE=DURATION:PT1440M
X-PUBLISHED-TTL:PT1440M
BEGIN:VTIMEZONE
TZID:Europe/Berlin
BEGIN:DAYLIGHT
DTSTART:20160327T020000Z
TZOFFSETFROM:+0100
TZOFFSETTO:+0200
END:DAYLIGHT
BEGIN:STANDARD
DTSTART:20161030T030000Z
TZOFFSETFROM:+0200
TZOFFSETTO:+0100
END:STANDARD
BEGIN:DAYLIGHT
DTSTART:20170326T020000Z
TZOFFSETFROM:+0100
TZOFFSETTO:+0200
END:DAYLIGHT
END:VTIMEZONE
BEGIN:VTIMEZONE
TZID:UTC
BEGIN:STANDARD
DTSTART:20250725T200323Z
TZOFFSETFROM:+0000
TZOFFSETTO:+0000
END:STANDARD
END:VTIMEZONE
BEGIN:VEVENT
UID:2966-1387
DTSTAMP:20260421T200323Z
SUMMARY:Deutschkurs 10-14.30 Uhr
LOCATION:
ORGANIZER;CN=verikom:MAILTO:vermietung@verikom.de
DTSTART;TZID=Europe/Berlin:20161026T100000
DTEND;TZID=Europe/Berlin:20161026T143000
X-ALT-DESC;FMTTYPE=TEXT/HTML:<p>Step2</p>\n
CATEGORIES:JuVo West
URL;VALUE=URI:https://www.verikom.de/mc-events/deutschkurs-10-14-30-uhr-37/
METHOD:PUBLISH
END:VEVENT
END:VCALENDAR